BEGIN:VCALENDAR
VERSION:2.0
PRODID:-//wp-events-plugin.com//6.6.4.4//EN
TZID:Europe/Budapest
X-WR-TIMEZONE:Europe/Budapest
BEGIN:VEVENT
UID:15992@femforgacs.hu
DTSTART;TZID=Europe/Budapest:20260610T190000
DTEND;TZID=Europe/Budapest:20260610T190000
DTSTAMP:20260119T083248Z
URL:https://femforgacs.hu/events/a-burial-at-the-sea-torzs-outlander/
SUMMARY:A Burial at the Sea\, Newhvn\, Törzs\, Outlander
DESCRIPTION:Az Emptiness Booking és a Dürer kert bemutatja:\n2026. júniu
 s 10.\, szerda\nBudapest\, A38 Hajó - Tetőterasz\nFellépők: A Burial a
 t the Sea\, Newhvn\, Törzs\, Outlander\n\nJegyár: 5.500\,- Ft / 6.500\,-
  Ft / 7.500\,- Ft\n\nJegyek: https://www.tixa.hu/a-burial-at-the-sea-newhv
 n-torzs-a38
CATEGORIES:Szabadtéri koncert
LOCATION:A38 Hajó\, Petőfi-híd budai hídfő\, Budapest\, 1117\, Magyaro
 rszág
GEO:47.47683759;19.06288706
X-APPLE-STRUCTURED-LOCATION;VALUE=URI;X-ADDRESS=Petőfi-híd budai hídfő\
 , Budapest\, 1117\, Magyarország;X-APPLE-RADIUS=100;X-TITLE=A38 Hajó:geo
 :47.47683759,19.06288706
END:VEVENT
BEGIN:VTIMEZONE
TZID:Europe/Budapest
X-LIC-LOCATION:Europe/Budapest
BEGIN:DAYLIGHT
DTSTART:20260329T030000
TZOFFSETFROM:+0100
TZOFFSETTO:+0200
TZNAME:CEST
END:DAYLIGHT
END:VTIMEZONE
END:VCALENDAR