BEGIN:VCALENDAR
VERSION:2.0
PRODID:-//wp-events-plugin.com//6.6.4.4//EN
TZID:Europe/Budapest
X-WR-TIMEZONE:Europe/Budapest
BEGIN:VEVENT
UID:15923@femforgacs.hu
DTSTART;TZID=Europe/Budapest:20260718T200000
DTEND;TZID=Europe/Budapest:20260718T200000
DTSTAMP:20251203T065222Z
URL:https://femforgacs.hu/events/all-in-now-tour-2026/
SUMMARY:All in Now Tour 2026
DESCRIPTION:All in Now Tour 2026\n2026. július 18.\, szombat\nBudapest\, A
 kvárium Klub\nFellép: Dogstar\n\nJegyár: 19.990\,- Ft\n\nJegyek: https:
 //www.tixa.hu/dogstar20260718
ATTACH;FMTTYPE=image/jpeg:https://storage.googleapis.com/femforgacs-wp/202
 5/12/aabc65c6-0010.jpg
CATEGORIES:Klubkoncert
LOCATION:Akvárium Klub\, Erzsébet tér 12.\, Budapest\, 1051\, Magyarorsz
 ág
GEO:47.4984469;19.0542255
X-APPLE-STRUCTURED-LOCATION;VALUE=URI;X-ADDRESS=Erzsébet tér 12.\, Budape
 st\, 1051\, Magyarország;X-APPLE-RADIUS=100;X-TITLE=Akvárium Klub:geo:47
 .4984469,19.0542255
END:VEVENT
BEGIN:VTIMEZONE
TZID:Europe/Budapest
X-LIC-LOCATION:Europe/Budapest
BEGIN:DAYLIGHT
DTSTART:20260329T030000
TZOFFSETFROM:+0100
TZOFFSETTO:+0200
TZNAME:CEST
END:DAYLIGHT
END:VTIMEZONE
END:VCALENDAR