BEGIN:VCALENDAR
VERSION:2.0
PRODID:-//wp-events-plugin.com//6.6.4.4//EN
TZID:Europe/Budapest
X-WR-TIMEZONE:Europe/Budapest
BEGIN:VEVENT
UID:16122@femforgacs.hu
DTSTART;TZID=Europe/Budapest:20260430T190000
DTEND;TZID=Europe/Budapest:20260430T190000
DTSTAMP:20260331T174610Z
URL:https://femforgacs.hu/events/asedio-cl-meszarlas-closure-concrete-riff
 -budapest/
SUMMARY:Asedio (CL)\, Mészárlás\, Closure\, Concrete - RIFF Budapest
DESCRIPTION:A FIRES BURNING és a Riff Budapest bemutatja:\nSPEED BLACK THR
 ASH ATTACK a Riffben\nHelyszín: RIFF Bár (1137\, Budapest\, Szent Istvá
 n krt. 2)Kapunyitás: 19:00JEGYEK: 4 000 Ft - CSAK A HELYSZÍNEN (20 év a
 latt vagy diákigazolvánnyal 3 000 Ft)\n\nAz old school hívei örvendhet
 nek\, mert hazánkba látogat egyenesen Chiléből a heavy/speed metalt j
 átszó Asedio! Duplázást és borotvaéles riffeket hozva\, az új 'Conf
 rontacion Heróica' albumuk sword and sorcery hangulatával idézi meg a 
 műfaj aranykorát!https://www.facebook.com/asedioheavymetal/\nTámogatás
 nak 3 hazai zenekar csatlakozik:Concrete: Az old school vonalat erősítve
  érkeznek a thrash metal színeiben\, punkos energiával\, súlyos riffek
 kel!https://www.facebook.com/Concrete666/\n\nClosure: A bulis hangulatot e
 l is felejtheted\, arcokat leolvasztó komor tremolo riffezéssel közeleg
  a halál szele! Black és heavy metál csodás egyvelege ez.https://www.f
 acebook.com/Band.Closure/\n\nMészárlás: Punkos és thrashes elemekkel m
 egspékelt black metalt hoznak. Gonosz\, ütős\, súlyos.https://www.face
 book.com/profile.php?id=61584394029795
CATEGORIES:Klubkoncert
LOCATION:Riff\, Szent István krt. 2.\, Budapest\, Pest megye\, 1137\, Pest
  megye\, Magyarország
GEO:47.5086;19.0624
X-APPLE-STRUCTURED-LOCATION;VALUE=URI;X-ADDRESS=Szent István krt. 2.\, Bud
 apest\, Pest megye\, 1137\, Pest megye\, Magyarország;X-APPLE-RADIUS=100;
 X-TITLE=Riff:geo:47.5086,19.0624
END:VEVENT
BEGIN:VTIMEZONE
TZID:Europe/Budapest
X-LIC-LOCATION:Europe/Budapest
BEGIN:DAYLIGHT
DTSTART:20260329T030000
TZOFFSETFROM:+0100
TZOFFSETTO:+0200
TZNAME:CEST
END:DAYLIGHT
END:VTIMEZONE
END:VCALENDAR