BEGIN:VCALENDAR
VERSION:2.0
PRODID:-//wp-events-plugin.com//6.6.4.4//EN
TZID:Europe/Budapest
X-WR-TIMEZONE:Europe/Budapest
BEGIN:VEVENT
UID:15868@femforgacs.hu
DTSTART;TZID=Europe/Budapest:20261101T180000
DTEND;TZID=Europe/Budapest:20261101T180000
DTSTAMP:20251015T123547Z
URL:https://femforgacs.hu/events/beast-in-black-sonata-arctica-frozen-crow
 n/
SUMMARY:Beast in Black\, Sonata Arctica\, Frozen Crown
DESCRIPTION:A Concerto Music bemutatja:\n2026. november 1.\, vasárnap\nBud
 apest\, Barba Negra Red Stage\nFellépők: Beast in Black\, Sonata Arctica
 \, Frozen Crown\n\nJegyár: 10.900\,- Ft - 14.900\,- Ft\nBalkonjegy: 19.90
 0\,- Ft\n\nJegyek: https://jegy.rock1.hu/beast-in-black_20261101
ATTACH;FMTTYPE=image/jpeg:https://storage.googleapis.com/femforgacs-wp/202
 5/10/59b2bc95-0010.jpg
CATEGORIES:Klubkoncert
LOCATION:Barba Negra\, Szállító u. 3.\, Budapest\, 1211\, Magyarország
X-APPLE-STRUCTURED-LOCATION;VALUE=URI;X-ADDRESS=Szállító u. 3.\, Budapes
 t\, 1211\, Magyarország;X-APPLE-RADIUS=100;X-TITLE=Barba Negra:geo:0,0
END:VEVENT
BEGIN:VTIMEZONE
TZID:Europe/Budapest
X-LIC-LOCATION:Europe/Budapest
BEGIN:STANDARD
DTSTART:20261025T020000
TZOFFSETFROM:+0200
TZOFFSETTO:+0100
TZNAME:CET
END:STANDARD
END:VTIMEZONE
END:VCALENDAR