BEGIN:VCALENDAR
VERSION:2.0
PRODID:-//wp-events-plugin.com//6.6.4.4//EN
TZID:Europe/Budapest
X-WR-TIMEZONE:Europe/Budapest
BEGIN:VEVENT
UID:15900@femforgacs.hu
DTSTART;TZID=Europe/Budapest:20261107T190000
DTEND;TZID=Europe/Budapest:20261107T190000
DTSTAMP:20251117T221647Z
URL:https://femforgacs.hu/events/black-out-esonap-jubileum-akvarium/
SUMMARY:BLACK-OUT Esőnap jubileum - Akvárium
DESCRIPTION:BLACK-OUT Esőnap\nAz Esőnap lemezzel a Black-Out zenekar vita
 thatatlanul felpakolta magát a magyar rockzenei élet palettájára.Kowal
 sky szövegeit a költői mélység\, szimbólumok\, az érzelmek kavalká
 dja\, a félelem\, a remény\, a belső viharok jellemzik\, melyek univerz
 álisan érintik a hallgatót. A Csányi Szabiék által életre keltett\,
  grunge-ból született\, de magyar lélekkel telített rockzenei világra
  is ez a széles skálán mozgó\, izgalmas dinamika jellemző.Az 1996-ban
  napvilágot látott album önálló estéje\, megfűszerezve a több évt
 izedes munkásságból összeállított különleges válogatással.\n• 
 2026. november 7. (szombat)• Helyszín: Akvárium Klub (1051 Budapest\, 
 Erzsébet tér 12.)• Kapunyitás: 18:00• Startolnak a jegyek: 11.18. 1
 2 óra
ATTACH;FMTTYPE=image/jpeg:https://storage.googleapis.com/femforgacs-wp/202
 5/11/ce911599-black-out-esonap_akvarium_2026.11.07.jpg
CATEGORIES:Klubkoncert
LOCATION:Akvárium\, Erzsébet tér\, Budapest\, 1051\, Magyarország
GEO:47.4984621;19.0531139
X-APPLE-STRUCTURED-LOCATION;VALUE=URI;X-ADDRESS=Erzsébet tér\, Budapest\,
  1051\, Magyarország;X-APPLE-RADIUS=100;X-TITLE=Akvárium:geo:47.4984621,
 19.0531139
END:VEVENT
BEGIN:VTIMEZONE
TZID:Europe/Budapest
X-LIC-LOCATION:Europe/Budapest
BEGIN:STANDARD
DTSTART:20261025T020000
TZOFFSETFROM:+0200
TZOFFSETTO:+0100
TZNAME:CET
END:STANDARD
END:VTIMEZONE
END:VCALENDAR