BEGIN:VCALENDAR
VERSION:2.0
PRODID:-//wp-events-plugin.com//6.6.4.4//EN
TZID:Europe/Budapest
X-WR-TIMEZONE:Europe/Budapest
BEGIN:VEVENT
UID:16066@femforgacs.hu
DTSTART;TZID=Europe/Budapest:20260617T190000
DTEND;TZID=Europe/Budapest:20260617T190000
DTSTAMP:20260223T090854Z
URL:https://femforgacs.hu/events/burn-this-world-evolved-part-ii/
SUMMARY:Burn This World [EVOLVED] Part II.
DESCRIPTION:A Live Nation Magyarország bemutatja: Burn This World [EVOLVED
 ] Part II.\n2026. június 17.\, szerda\nBudapest\, Analog Music Hall\nFell
 épők: The Browning\, Cabal\n\nJegyár: 12.500\,- Ft\n\nJegyek: https://f
 uncode.hu/hu/event/3693-the-browning
ATTACH;FMTTYPE=image/jpeg:https://storage.googleapis.com/femforgacs-wp/202
 6/02/b255469a-0010.jpg
CATEGORIES:Klubkoncert
LOCATION:Analog Music Hall\, XI. ker.\, Kondorfa u. 8.\, Budapest\, Magyaro
 rszág
X-APPLE-STRUCTURED-LOCATION;VALUE=URI;X-ADDRESS=XI. ker.\, Kondorfa u. 8.\,
  Budapest\, Magyarország;X-APPLE-RADIUS=100;X-TITLE=Analog Music Hall:geo
 :0,0
END:VEVENT
BEGIN:VTIMEZONE
TZID:Europe/Budapest
X-LIC-LOCATION:Europe/Budapest
BEGIN:DAYLIGHT
DTSTART:20260329T030000
TZOFFSETFROM:+0100
TZOFFSETTO:+0200
TZNAME:CEST
END:DAYLIGHT
END:VTIMEZONE
END:VCALENDAR