BEGIN:VCALENDAR
VERSION:2.0
PRODID:-//wp-events-plugin.com//6.6.4.4//EN
TZID:Europe/Budapest
X-WR-TIMEZONE:Europe/Budapest
BEGIN:VEVENT
UID:16073@femforgacs.hu
DTSTART;TZID=Europe/Budapest:20261015T190000
DTEND;TZID=Europe/Budapest:20261015T190000
DTSTAMP:20260224T100803Z
URL:https://femforgacs.hu/events/danko-jones-rising-tour-2026/
SUMMARY:Danko Jones - Rising Tour 2026
DESCRIPTION:A Live Nation Magyarország bemutatja: Danko Jones - Rising Tou
 r 2026\n2026. október 15.\, csütörtök\nBudapest\, A38 Hajó\nFellépő
 k: Danko Jones\, Split Dogs\n\nJegyár: 13.400\,- Ft\n\nJegyek: https://fu
 ncode.hu/hu/event/3653-danko-jones\n\n
ATTACH;FMTTYPE=image/jpeg:https://storage.googleapis.com/femforgacs-wp/202
 6/02/78c04147-0010.jpg
CATEGORIES:Klubkoncert
LOCATION:A38 Hajó\, Petőfi-híd budai hídfő\, Budapest\, 1117\, Magyaro
 rszág
GEO:47.47683759;19.06288706
X-APPLE-STRUCTURED-LOCATION;VALUE=URI;X-ADDRESS=Petőfi-híd budai hídfő\
 , Budapest\, 1117\, Magyarország;X-APPLE-RADIUS=100;X-TITLE=A38 Hajó:geo
 :47.47683759,19.06288706
END:VEVENT
BEGIN:VTIMEZONE
TZID:Europe/Budapest
X-LIC-LOCATION:Europe/Budapest
BEGIN:DAYLIGHT
DTSTART:20260329T030000
TZOFFSETFROM:+0100
TZOFFSETTO:+0200
TZNAME:CEST
END:DAYLIGHT
END:VTIMEZONE
END:VCALENDAR