BEGIN:VCALENDAR
VERSION:2.0
PRODID:-//wp-events-plugin.com//6.6.4.4//EN
TZID:Europe/Budapest
X-WR-TIMEZONE:Europe/Budapest
BEGIN:VEVENT
UID:16145@femforgacs.hu
DTSTART;TZID=Europe/Budapest:20260702T190000
DTEND;TZID=Europe/Budapest:20260702T190000
DTSTAMP:20260422T091118Z
URL:https://femforgacs.hu/events/detonate-tour/
SUMMARY:Detonate Tour
DESCRIPTION:A Live Nation Magyarország bemutatja: Detonate Tour\n2026. jú
 lius 2.\, csütörtök\nBudapest\, Analog Music Hall\nFellép: The Casualt
 ies\n\nJegyek: https://funcode.hu/hu/event/4195-the-casualties
ATTACH;FMTTYPE=image/jpeg:https://storage.googleapis.com/femforgacs-wp/202
 6/04/c6f1ba59-0010.jpg
CATEGORIES:Klubkoncert
LOCATION:Analog Music Hall\, XI. ker.\, Kondorfa u. 8.\, Budapest\, Magyaro
 rszág
X-APPLE-STRUCTURED-LOCATION;VALUE=URI;X-ADDRESS=XI. ker.\, Kondorfa u. 8.\,
  Budapest\, Magyarország;X-APPLE-RADIUS=100;X-TITLE=Analog Music Hall:geo
 :0,0
END:VEVENT
BEGIN:VTIMEZONE
TZID:Europe/Budapest
X-LIC-LOCATION:Europe/Budapest
BEGIN:DAYLIGHT
DTSTART:20260329T030000
TZOFFSETFROM:+0100
TZOFFSETTO:+0200
TZNAME:CEST
END:DAYLIGHT
END:VTIMEZONE
END:VCALENDAR