BEGIN:VCALENDAR
VERSION:2.0
PRODID:-//wp-events-plugin.com//6.6.4.4//EN
TZID:Europe/Budapest
X-WR-TIMEZONE:Europe/Budapest
BEGIN:VEVENT
UID:16090@femforgacs.hu
DTSTART;TZID=Europe/Budapest:20261111T190000
DTEND;TZID=Europe/Budapest:20261111T190000
DTSTAMP:20260310T060738Z
URL:https://femforgacs.hu/events/erdling-mana-tour-pt-ii/
SUMMARY:Erdling - Mana Tour Part 2
DESCRIPTION:A Fekete Zaj bemutatja: Erdling - Mana Tour Part 2\n2026. novem
 ber 11.\, szerda\nBudapest\, Dürer Kert\nFellépők: Erdling\, Johnny Tup
 olev\n\nJegyár: 8.990\,- Ft - 11.990\,- Ft\n\nJegyek: https://www.tixa.hu
 /erdling-budapest
ATTACH;FMTTYPE=image/jpeg:https://storage.googleapis.com/femforgacs-wp/202
 6/03/0b3bef24-0010.jpg
CATEGORIES:Klubkoncert
LOCATION:Dürer Kert\, Öböl utca 1. (XI. ker.)\, Budapest\, Magyarország
GEO:47.45976;19.057503
X-APPLE-STRUCTURED-LOCATION;VALUE=URI;X-ADDRESS=Öböl utca 1. (XI. ker.)\,
  Budapest\, Magyarország;X-APPLE-RADIUS=100;X-TITLE=Dürer Kert:geo:47.45
 976,19.057503
END:VEVENT
BEGIN:VTIMEZONE
TZID:Europe/Budapest
X-LIC-LOCATION:Europe/Budapest
BEGIN:STANDARD
DTSTART:20261025T020000
TZOFFSETFROM:+0200
TZOFFSETTO:+0100
TZNAME:CET
END:STANDARD
END:VTIMEZONE
END:VCALENDAR