BEGIN:VCALENDAR
VERSION:2.0
PRODID:-//wp-events-plugin.com//6.6.4.4//EN
TZID:Europe/Budapest
X-WR-TIMEZONE:Europe/Budapest
BEGIN:VEVENT
UID:16113@femforgacs.hu
DTSTART;TZID=Europe/Budapest:20260508T190000
DTEND;TZID=Europe/Budapest:20260508T190000
DTSTAMP:20260404T170417Z
URL:https://femforgacs.hu/events/erdo-skybeast-riff-budapest/
SUMMARY:Erdő\, Skybeast - RIFF Budapest
DESCRIPTION:MENETREND\n19.00 kapunyitás20:00 - 21:00 - Erdő21:30 - 22:30 
 - S K Y B E A S T22:30 - 23:30 - (különféle italok fogyasztása szájja
 l)23.30 utolsó kör!24.00 záróra\nBelépő: 2000 Ft\n****************Er
 dő\n"Annak idején megnyitották az érzékelés kapuit\, a szél aztán 
 visszacsinálta az egészet. Néha azonban mintha újranyílnának résnyi
 re. A huzat. Mi meg hallgatózunk."\nhttps://open.spotify.com/artist/1iLcz
 KlqnGKHujCsnoaJVn...\n****************S K Y B E A S T\nA budapesti Skybeas
 t 2019 óta építi saját hangzásvilágát\, ahol a groove és thrash me
 tal súlyos riffjei találkoznak a grunge hangulatával és a modern prog 
 kísérletező erejével.\nAz angol nyelvű dalokban két énekes váltako
 zó tiszta és hörgő vokálja ad különleges dinamizmust\, miközben a 
 zenekar egyszerre nyújt brutális erőt és emlékezetes dallamokat.\nAz 
 első single-ként kiadott dalok után tavaly jelent meg a „Counting Ani
 mals” című EP-jük\, és sorra születnek az új szerzemények\, amely
 ekben a személyes élmények és társadalmi kérdések egyaránt helyet 
 kapnak. A Skybeast minden koncertje egy intenzív utazás – a súly\, am
 it érzel\, és a dallam\, amit sosem felejtesz.Ha a Gojira technikásság
 át\, az Alice in Chains hangulati mélységét és a Lamb of God pusztít
 ó energiáját keresed\, a Skybeast a te zenekarod!\n•Facebook: https:
 //www.facebook.com/skybeastband\n•Instagram: https://www.instagram.com/
 skybeast_band/\n•Youtube: https://www.youtube.com/@skybeast_band\n•Sp
 otify: https://open.spotify.com/artist/2XvAoJYUdod6EcbUAIaHPM...
ATTACH;FMTTYPE=image/jpeg:https://storage.googleapis.com/femforgacs-wp/202
 6/03/44e9d69e-erdo_skybeast_riff_05.08.jpg
CATEGORIES:Klubkoncert
LOCATION:Riff\, Szent István krt. 2.\, Budapest\, Pest megye\, 1137\, Pest
  megye\, Magyarország
GEO:47.5086;19.0624
X-APPLE-STRUCTURED-LOCATION;VALUE=URI;X-ADDRESS=Szent István krt. 2.\, Bud
 apest\, Pest megye\, 1137\, Pest megye\, Magyarország;X-APPLE-RADIUS=100;
 X-TITLE=Riff:geo:47.5086,19.0624
END:VEVENT
BEGIN:VTIMEZONE
TZID:Europe/Budapest
X-LIC-LOCATION:Europe/Budapest
BEGIN:DAYLIGHT
DTSTART:20260329T030000
TZOFFSETFROM:+0100
TZOFFSETTO:+0200
TZNAME:CEST
END:DAYLIGHT
END:VTIMEZONE
END:VCALENDAR