BEGIN:VCALENDAR
VERSION:2.0
PRODID:-//wp-events-plugin.com//6.6.4.4//EN
TZID:Europe/Budapest
X-WR-TIMEZONE:Europe/Budapest
BEGIN:VEVENT
UID:15910@femforgacs.hu
DTSTART;TZID=Europe/Budapest:20260425T200000
DTEND;TZID=Europe/Budapest:20260425T200000
DTSTAMP:20251124T201751Z
URL:https://femforgacs.hu/events/isten-hata-mogott-the-visszaeses-durer-ke
 rt-2/
SUMMARY:Isten Háta Mögött – the Visszaesés - Dürer Kert TELT HÁZ
DESCRIPTION:Isten Háta Mögött - 'the Visszaesés'2026.04.24. // Dürer K
 ert\n„Az Isten Háta Mögött 2015-ben beadta a kulcsot és mennybe ment
 \, ott meggyógyult\, és most visszaesik a földre. Van még miről besz
 élniük ezek szerint.”\nJegystart: 2025.11.20. 10:00 a Tixa felületén
 \n\nAMI BIZTOS:Az Isten Háta Mögött zenekar 2026. április 24-én újra
  színpadra áll a Dürer Kertben.Az Isten Háta Mögött a Bokros Csaba 
 – Egyedi Péter – Hortobágyi László – Pálinkás Tamás tagságga
 l\, tehát A kényelmetlen lemez felállásával tér vissza.A zenekar el
 őző Facebook-oldalát ellopták\, ezért most újat indított. A jelszó
 : csakfiatalosan\, nagy c-vel.Mivel az Isten Háta Mögött 2015 nyarán b
 úcsúzott el a közönségtől\, könnyen kiszámolható\, hogy a visszat
 érésig kb. 3960 nap telik el\, amiből már csak kb. 160 van vissza.Mive
 l a jegyvásárlás online történik\, a zenekar a jegybevételt nem tudj
 a egy borítékban elhagyni.\n\nAMI NEM BIZTOS:A zenekar lehet\, hogy a Ti
 pikus árvajelleg c. dallal kezdi és az Aláírhatatlan történelem c. d
 allal zárja majd a koncertet.És a jövő. Az sosem biztos. Viszont a zen
 ekar szeretné közölni\, hogy fontolgat egyéb dolgokat is a jövővel k
 apcsolatban.\nÉs még az is biztos\, hogy várunk mindenkit!\n-----------
 -----------------------------------------------------\nFacebook: https://
 www.facebook.com/istenhatamogottzenekarInstagram: https://www.instagram.c
 om/istenhatamogott
ATTACH;FMTTYPE=image/jpeg:https://storage.googleapis.com/femforgacs-wp/202
 5/11/7be1853d-ihm_budapest_durer_kert_aprilis_24-25_a2_flyer.jpg
CATEGORIES:Klubkoncert
LOCATION:Dürer Kert\, Öböl utca 1. (XI. ker.)\, Budapest\, Magyarország
GEO:47.45976;19.057503
X-APPLE-STRUCTURED-LOCATION;VALUE=URI;X-ADDRESS=Öböl utca 1. (XI. ker.)\,
  Budapest\, Magyarország;X-APPLE-RADIUS=100;X-TITLE=Dürer Kert:geo:47.45
 976,19.057503
END:VEVENT
BEGIN:VTIMEZONE
TZID:Europe/Budapest
X-LIC-LOCATION:Europe/Budapest
BEGIN:DAYLIGHT
DTSTART:20260329T030000
TZOFFSETFROM:+0100
TZOFFSETTO:+0200
TZNAME:CEST
END:DAYLIGHT
END:VTIMEZONE
END:VCALENDAR