BEGIN:VCALENDAR
VERSION:2.0
PRODID:-//wp-events-plugin.com//6.6.4.4//EN
TZID:Europe/Budapest
X-WR-TIMEZONE:Europe/Budapest
BEGIN:VEVENT
UID:15958@femforgacs.hu
DTSTART;TZID=Europe/Budapest:20260509T170000
DTEND;TZID=Europe/Budapest:20260509T170000
DTSTAMP:20251218T170701Z
URL:https://femforgacs.hu/events/kispal-es-a-borz-budapest-park/
SUMMARY:Kispál és a Borz - Budapest Park
DESCRIPTION:Jegyek: https://jegy.budapestpark.hu/kispalesaborz_0509_e\nJeg
 ystart a hírleveleseknek: december 8-án!A hírlevélre feliratkozhattok 
 itt: http://eepurl.com/iE3FkI\nA nyilvános jegyértékesítés 12.09-én 
 10:00-tól indul!\n2023-as nagysikerű dupla bulija után újra a Budapest
  Park színpadán a Kispál és a Borz! A legendás alternatív rockzeneka
 r május 9-én veszi be a Park színpadát\, ahová elhozzák a közel né
 gy évtizedes pályájuk legszeretettebb slágereit.\nAz este tervezett me
 netrendje:- 18:00 Kapunyitás- Ajánlott érkezés: 18-19 óra között. H
 a tutira nem szeretnél lemaradni a koncertekről\, érkezz időben!- Konc
 ertek vége + éjszakai bulik kezdete: 22 óraA pontos menetrendet\, a kon
 certek kezdési időpontjaival legkésőbb a rendezvény napján közzéte
 sszük a Facebook eseményben.\n22 óra után a koncertjeggyel minden azna
 pi bulit ingyenesen látogathatsz!\nKorhatár: 16 éven aluliak csak szül
 ői kísérettel\, vagy szülő által meghatalmazott nagykorú felügyele
 tével vehetnek részt a koncerten. A 16 és 18 év közöttiek szülő va
 gy gondviselő által aláírt nyilatkozattal léphetnek be. A meghatalmaz
 ás-\, illetve nyilatkozat sablonok ide kattintva érhetőek el: https://w
 ww.budapestpark.hu/pages/gyik#kiskoruak\nHogy 23 óráig a koncerten rész
 tvevő kiskorú vendégeink elhagyják a Park területét\, az őket kís
 érő nagykorú felelőssége\, vagy 16-18 éves vendégeink esetében a s
 zámukra hozzájáruló nyilatkozatot kitöltő szülő felelőssége.\nFe
 lhívjuk a figyelmed\, hogy a 22:00-kor kezdődő bulijaink 18 éven felü
 l látogathatók! 21 óra után csak 18 éven felüliek léphetnek be a Pa
 rkba.\nA fenti szabály alól kivétel\, ha 16-18 év közötti vendégün
 k saját szülői kísérettel vesz részt az eseményen.\nSzeretnénk fel
 hívni a figyelmed\, hogy készpénzmentesek vagyunk! A Budapest Park telj
 es területén kizárólag kártyás fizetés lehetséges. Amennyiben ninc
 s Nálad a bankkártyád\, a helyszínen a Park Shopban és a jegypénztá
 rban tudsz FestiPay kártyát igényelni\, illetve készpénzt tölteni r
 á. A kártya letéti díja 500 Ft\, amelyet a Park Shopban és a jegypén
 ztárban tudsz visszaváltani\, a letéti díjat pedig visszakapod.\nPultj
 ainkban repohár rendszer működik\, amelyről részletesen itt olvashats
 z: https://www.budapestpark.hu/pages/gyik...\nEseményeinket rossz idő es
 etén is megtartjuk! Az esernyődet kérjük\, hagyd otthon! Ha nincs eső
 kabátod\, eldobható esőponcsót biztosítunk\, melyet a Park pultjaiban
  és Park Shopban tudsz megvásárolni.\nHa megvetted a jegyed\, de nem ta
 lálod\, írj a jegy@budapestpark.hu email címre. Ha mindjárt kezdődik 
 a koncert\, indulj el nyugodtan\, mert a helyszínen\, a Park jegypénztá
 rában tudnak segíteni kollégáink.\nHa szeretnéd a feleslegessé vált
  jegyedet eladni\, a TicketSwap rendszerét ajánljuk\, mert biztonságos\
 , kényelmes! https://www.ticketswap.com/\nA helyszínen a Budapest Park 
 Vibe Team tagjai fognak gondoskodni arról\, hogy ha kérdésetek vagy pro
 blémátok lenne\, akkor minél hamarabb megtaláljuk a legideálisabb meg
 oldást a helyzetre. Keressétek a Vibe Team feliratú pólóban lévő ko
 llégákat\, és kérjetek bátran segítséget.\nA valóság kinthagyása
  közben is figyeljetek egymásra\, hogy mindenki felszabadultan szórakoz
 hasson és csodálatos élményekkel térhessen haza!\nSzeretnénk felhív
 ni a figyelmeteket\, hogy a Soroksári úton hatalmas az átmenő forgalom
 \, ezért kérjük\, fokozottan ügyeljetek a KRESZ szabályaira\, kizár
 ólag a kijelölt gyalogos átkelőhelyeket használjátok\, és közleked
 jetek óvatosan! PARK SHOP\nA legmenőbb Parkos cuccokat keresd a bejárat
  után bal oldalon vagy nézz szét a webshopon: www.shop.budapestpark.hu
  !\nJegyinformáció:\nFelelősséget csak a Budapest Parktól\, vagy hiv
 atalos partnereinktől (tixa.hu) vásárolt jegyekért tudunk vállalni.\n
 A jegyedet ne tedd közzé semmilyen felületen! A budapestpark.hu oldalo
 n vásárolt jegyedet nem kell kinyomtatnod! A telefonodon lévő jegy (QR
  kód vagy vonalkód) bemutatásával beléphetsz.\nHa küzdőteres jegyed
  van\, nem kell karszalagra váltani\, a QR kódot előkészítve be tudsz
  lépni a főbejáraton. Felhívjuk figyelmed\, hogy a küzdőteres jegyek
  egyszeri belépésre jogosítanak! Ha Mastercard\, K&amp\;H Terasz\, vagy
  Hoppá terasz jegyed van\, menj a főbejárat melletti jegypénztárhoz v
 agy a megfelelő VIP bejárathoz és váltsd karszalagra a belépőd. Ha t
 erasz jegyed van\, menj a főbejárat melletti jegypénztárhoz vagy a meg
 felelő VIP bejárathoz és váltsd karszalagra a belépőd. Még több k
 érdésre választ adunk weboldalunkon: https://www.budapestpark.hu/pages/
 gyik
ATTACH;FMTTYPE=image/jpeg:https://storage.googleapis.com/femforgacs-wp/202
 5/12/a9744c1c-kispal-es-a-borz-budapest-park-2026.05.09.jpg
CATEGORIES:Szabadtéri koncert
LOCATION:Budapest Park\, Soroksári út 60.\, Budapest\, Budapest főváros
 \, Magyarország
GEO:47.49801;19.03991
X-APPLE-STRUCTURED-LOCATION;VALUE=URI;X-ADDRESS=Soroksári út 60.\, Budape
 st\, Budapest főváros\, Magyarország;X-APPLE-RADIUS=100;X-TITLE=Budapes
 t Park:geo:47.49801,19.03991
END:VEVENT
BEGIN:VTIMEZONE
TZID:Europe/Budapest
X-LIC-LOCATION:Europe/Budapest
BEGIN:DAYLIGHT
DTSTART:20260329T030000
TZOFFSETFROM:+0100
TZOFFSETTO:+0200
TZNAME:CEST
END:DAYLIGHT
END:VTIMEZONE
END:VCALENDAR