BEGIN:VCALENDAR
VERSION:2.0
PRODID:-//wp-events-plugin.com//6.6.4.4//EN
TZID:Europe/Budapest
X-WR-TIMEZONE:Europe/Budapest
BEGIN:VEVENT
UID:16092@femforgacs.hu
DTSTART;TZID=Europe/Budapest:20260515T180000
DTEND;TZID=Europe/Budapest:20260515T180000
DTSTAMP:20260311T104617Z
URL:https://femforgacs.hu/events/knocked-loose/
SUMMARY:Knocked Loose
DESCRIPTION:A Live Nation Magyarország bemutatja:\n2026. május 15.\, pén
 tek\nBudapest\, Akvárium Klub\nFellép: Knocked Loose\n\nJegyár: 14.500\
 ,- Ft\n\nJegyek: https://funcode.hu/hu/event/3784-knocked-loose
ATTACH;FMTTYPE=image/jpeg:https://storage.googleapis.com/femforgacs-wp/202
 6/03/9c6c3e91-0010.jpg
CATEGORIES:Klubkoncert
LOCATION:Akvárium Klub\, Erzsébet tér 12.\, Budapest\, 1051\, Magyarorsz
 ág
GEO:47.4984469;19.0542255
X-APPLE-STRUCTURED-LOCATION;VALUE=URI;X-ADDRESS=Erzsébet tér 12.\, Budape
 st\, 1051\, Magyarország;X-APPLE-RADIUS=100;X-TITLE=Akvárium Klub:geo:47
 .4984469,19.0542255
END:VEVENT
BEGIN:VTIMEZONE
TZID:Europe/Budapest
X-LIC-LOCATION:Europe/Budapest
BEGIN:DAYLIGHT
DTSTART:20260329T030000
TZOFFSETFROM:+0100
TZOFFSETTO:+0200
TZNAME:CEST
END:DAYLIGHT
END:VTIMEZONE
END:VCALENDAR