BEGIN:VCALENDAR
VERSION:2.0
PRODID:-//wp-events-plugin.com//6.6.4.4//EN
TZID:Europe/Budapest
X-WR-TIMEZONE:Europe/Budapest
BEGIN:VEVENT
UID:10846@femforgacs.hu
DTSTART:20160730T000000Z
DTEND:20160730T000000Z
DTSTAMP:20160705T220000Z
URL:https://femforgacs.hu/events/koncert-10846-2016_julius_30_artmania_fes
 tival_2016/
SUMMARY:ARTmania Festival 2016
DESCRIPTION:Ihsahn\nPoemisia\nPain of Salvation\nHteththemeth\nSolstafír\n
 Fallen Arise\nAvenue Lie\nVespera
ATTACH;FMTTYPE=image/jpeg:https://storage.googleapis.com/femforgacs-wp/202
 2/11/n-2016_julius_30_ARTmania_Festival_2016.jpg
LOCATION:ARTmania Festival\, Large Square no 1.\, Nagyszeben\, 
X-APPLE-STRUCTURED-LOCATION;VALUE=URI;X-ADDRESS=Large Square no 1.\, Nagysz
 eben\, ;X-APPLE-RADIUS=100;X-TITLE=ARTmania Festival:geo:0,0
END:VEVENT
END:VCALENDAR