BEGIN:VCALENDAR
VERSION:2.0
PRODID:-//wp-events-plugin.com//6.6.4.4//EN
TZID:Europe/Budapest
X-WR-TIMEZONE:Europe/Budapest
BEGIN:VEVENT
UID:11292@femforgacs.hu
DTSTART:20170507T000000Z
DTEND:20170507T000000Z
DTSTAMP:20161205T230000Z
URL:https://femforgacs.hu/events/koncert-11292-2017_majus_7_head_job_europ
 ean_tour_2017/
SUMMARY:Head Job European Tour 2017
DESCRIPTION:Phil Rudd Band
ATTACH;FMTTYPE=image/jpeg:https://storage.googleapis.com/femforgacs-wp/202
 2/11/n-2017_majus_7_Head_Job_European_Tour_2017.jpg
LOCATION:Dürer Kert\, Öböl utca 1. (XI. ker.)\, Budapest\, Magyarország
GEO:47.45976;19.057503
X-APPLE-STRUCTURED-LOCATION;VALUE=URI;X-ADDRESS=Öböl utca 1. (XI. ker.)\,
  Budapest\, Magyarország;X-APPLE-RADIUS=100;X-TITLE=Dürer Kert:geo:47.45
 976,19.057503
END:VEVENT
END:VCALENDAR