BEGIN:VCALENDAR
VERSION:2.0
PRODID:-//wp-events-plugin.com//6.6.4.4//EN
TZID:Europe/Budapest
X-WR-TIMEZONE:Europe/Budapest
BEGIN:VEVENT
UID:12529@femforgacs.hu
DTSTART:20180311T000000Z
DTEND:20180311T000000Z
DTSTAMP:20171031T230000Z
URL:https://femforgacs.hu/events/koncert-12529-2018_marcius_11_unsung_prop
 hets_dead_messiahs_tour_2018/
SUMMARY:Unsung Prophets &amp\; Dead Messiahs Tour 2018
DESCRIPTION:Orphaned Land\nLunarsea\nSubterranean Masquerade\nDirty Shirt
ATTACH;FMTTYPE=image/jpeg:https://storage.googleapis.com/femforgacs-wp/202
 2/11/n-2018_marcius_11_Unsung_Prophets_Dead_Messiahs_Tour_2018.jpg
LOCATION:Dürer Kert\, Öböl utca 1. (XI. ker.)\, Budapest\, Magyarország
GEO:47.45976;19.057503
X-APPLE-STRUCTURED-LOCATION;VALUE=URI;X-ADDRESS=Öböl utca 1. (XI. ker.)\,
  Budapest\, Magyarország;X-APPLE-RADIUS=100;X-TITLE=Dürer Kert:geo:47.45
 976,19.057503
END:VEVENT
END:VCALENDAR