BEGIN:VCALENDAR
VERSION:2.0
PRODID:-//wp-events-plugin.com//6.6.4.4//EN
TZID:Europe/Budapest
X-WR-TIMEZONE:Europe/Budapest
BEGIN:VEVENT
UID:13127@femforgacs.hu
DTSTART:20180807T000000Z
DTEND:20180807T000000Z
DTSTAMP:20180506T220000Z
URL:https://femforgacs.hu/events/koncert-13127-2018_augusztus_7_23_brutal_
 assault_warm_up_party/
SUMMARY:23. Brutal Assault - Warm-up Party
DESCRIPTION:Suicidal Tendencies\nMonuments of Misanthropy\nRoot\nGride\nBea
 st Within the Sound
ATTACH;FMTTYPE=image/jpeg:https://storage.googleapis.com/femforgacs-wp/202
 2/11/n-2018_augusztus_7_23_Brutal_Assault_Warm_up_Party.jpg
LOCATION:Josefov Erőd\, Okružní 313.\, Jaroměř\, Severovýchod\, 55102
 \, okres Náchod\, Cseh Köztársaság
GEO:50.3398438;15.9348125
X-APPLE-STRUCTURED-LOCATION;VALUE=URI;X-ADDRESS=Okružní 313.\, Jaroměř\
 , Severovýchod\, 55102\, okres Náchod\, Cseh Köztársaság;X-APPLE-RADI
 US=100;X-TITLE=Josefov Erőd:geo:50.3398438,15.9348125
END:VEVENT
END:VCALENDAR