BEGIN:VCALENDAR
VERSION:2.0
PRODID:-//wp-events-plugin.com//6.6.4.4//EN
TZID:Europe/Budapest
X-WR-TIMEZONE:Europe/Budapest
BEGIN:VEVENT
UID:2146@femforgacs.hu
DTSTART:20080822T180000Z
DTEND:20080822T000000Z
DTSTAMP:20080605T220000Z
URL:https://femforgacs.hu/events/koncert-2146-2008_augusztus_22_vii_the_ch
 romized_land/
SUMMARY:VII. The Chromized Land
DESCRIPTION:Tesstimony\nBaskiria\nNeochrome\nGholgoth\nMortem\nBloodlust
ATTACH;FMTTYPE=image/jpeg:https://storage.googleapis.com/femforgacs-wp/202
 2/11/n-2008_augusztus_22_VII_The_Chromized_Land.jpg
LOCATION:Új Vigadó Rock Klub\, Nagyerdei park 6.\, Debrecen\, 
X-APPLE-STRUCTURED-LOCATION;VALUE=URI;X-ADDRESS=Nagyerdei park 6.\, Debrece
 n\, ;X-APPLE-RADIUS=100;X-TITLE=Új Vigadó Rock Klub:geo:0,0
END:VEVENT
END:VCALENDAR