BEGIN:VCALENDAR
VERSION:2.0
PRODID:-//wp-events-plugin.com//6.6.4.4//EN
TZID:Europe/Budapest
X-WR-TIMEZONE:Europe/Budapest
BEGIN:VEVENT
UID:2342@femforgacs.hu
DTSTART:20081220T190000Z
DTEND:20081220T000000Z
DTSTAMP:20080824T220000Z
URL:https://femforgacs.hu/events/koncert-2342-2008_december_20_viii_metal_
 karacsony/
SUMMARY:VIII. Metal Karácsony
DESCRIPTION:Moby Dick\nDarkfall (AT)\nNeochrome\nOverload\nSpear\nMoby Dick
  retro buli az első három lemez klasszikusaival
ATTACH;FMTTYPE=image/jpeg:https://storage.googleapis.com/femforgacs-wp/202
 2/11/n-2008_december_20_VIII_Metal_Karacsony.jpg
LOCATION:Új Vigadó Rock Klub\, Nagyerdei park 6.\, Debrecen\, 
X-APPLE-STRUCTURED-LOCATION;VALUE=URI;X-ADDRESS=Nagyerdei park 6.\, Debrece
 n\, ;X-APPLE-RADIUS=100;X-TITLE=Új Vigadó Rock Klub:geo:0,0
END:VEVENT
END:VCALENDAR