BEGIN:VCALENDAR
VERSION:2.0
PRODID:-//wp-events-plugin.com//6.6.4.4//EN
TZID:Europe/Budapest
X-WR-TIMEZONE:Europe/Budapest
BEGIN:VEVENT
UID:2392@femforgacs.hu
DTSTART:20081013T190000Z
DTEND:20081013T000000Z
DTSTAMP:20080911T220000Z
URL:https://femforgacs.hu/events/koncert-2392-2008_oktober_13_the_search_f
 or_the_13th_star_tour/
SUMMARY:The Search for the 13th Star Tour
DESCRIPTION:Fish
LOCATION:A38 Hajó\, Petőfi-híd budai hídfő\, Budapest\, 1117\, Magyaro
 rszág
GEO:47.47683759;19.06288706
X-APPLE-STRUCTURED-LOCATION;VALUE=URI;X-ADDRESS=Petőfi-híd budai hídfő\
 , Budapest\, 1117\, Magyarország;X-APPLE-RADIUS=100;X-TITLE=A38 Hajó:geo
 :47.47683759,19.06288706
END:VEVENT
END:VCALENDAR