BEGIN:VCALENDAR
VERSION:2.0
PRODID:-//wp-events-plugin.com//6.6.4.4//EN
TZID:Europe/Budapest
X-WR-TIMEZONE:Europe/Budapest
BEGIN:VEVENT
UID:2480@femforgacs.hu
DTSTART:20081107T000000Z
DTEND:20081107T000000Z
DTSTAMP:20081008T220000Z
URL:https://femforgacs.hu/events/koncert-2480-2008_november_7_insane_lemez
 bemutato/
SUMMARY:Insane lemezbemutató
DESCRIPTION:Insane\nCadaveres\nReplika\nStopyt\nZulu
ATTACH;FMTTYPE=image/jpeg:https://storage.googleapis.com/femforgacs-wp/202
 2/11/n-2008_november_7_Insane_lemezbemutato.jpg
LOCATION:A38 Hajó\, Petőfi-híd budai hídfő\, Budapest\, 1117\, Magyaro
 rszág
GEO:47.47683759;19.06288706
X-APPLE-STRUCTURED-LOCATION;VALUE=URI;X-ADDRESS=Petőfi-híd budai hídfő\
 , Budapest\, 1117\, Magyarország;X-APPLE-RADIUS=100;X-TITLE=A38 Hajó:geo
 :47.47683759,19.06288706
END:VEVENT
END:VCALENDAR