BEGIN:VCALENDAR
VERSION:2.0
PRODID:-//wp-events-plugin.com//6.6.4.4//EN
TZID:Europe/Budapest
X-WR-TIMEZONE:Europe/Budapest
BEGIN:VEVENT
UID:2491@femforgacs.hu
DTSTART:20081101T210000Z
DTEND:20081101T000000Z
DTSTAMP:20081013T220000Z
URL:https://femforgacs.hu/events/koncert-2491-2008_november_1_sounds_from_
 the_underground/
SUMMARY:Sounds from the Underground
DESCRIPTION:Another Way\nDNS\nCalm Before the Storm\nForsaken Decay\nSay Ou
 t
ATTACH;FMTTYPE=image/jpeg:https://storage.googleapis.com/femforgacs-wp/202
 2/11/n-2008_november_1_Sounds_from_the_Underground.jpg
LOCATION:No Stress Rock Club\, Bartók Béla út 1\, Győr\, 
X-APPLE-STRUCTURED-LOCATION;VALUE=URI;X-ADDRESS=Bartók Béla út 1\, Győr
 \, ;X-APPLE-RADIUS=100;X-TITLE=No Stress Rock Club:geo:0,0
END:VEVENT
END:VCALENDAR