BEGIN:VCALENDAR
VERSION:2.0
PRODID:-//wp-events-plugin.com//6.6.4.4//EN
TZID:Europe/Budapest
X-WR-TIMEZONE:Europe/Budapest
BEGIN:VEVENT
UID:2546@femforgacs.hu
DTSTART:20090110T000000Z
DTEND:20090110T000000Z
DTSTAMP:20081030T230000Z
URL:https://femforgacs.hu/events/koncert-2546-2009_januar_10_vi_stagedivin
 g_fesztival/
SUMMARY:VI. Stagediving Fesztivál
DESCRIPTION:Watch My Dying\nCadaveres\nCasketgarden\nDózer.hu\nSzeg\nStopy
 t
ATTACH;FMTTYPE=image/jpeg:https://storage.googleapis.com/femforgacs-wp/202
 2/11/n-2009_januar_10_VI_Stagediving_Fesztival.jpg
LOCATION:Ráday Klub\, Budapest\, 
X-APPLE-STRUCTURED-LOCATION;VALUE=URI;X-ADDRESS=Budapest\, ;X-APPLE-RADIUS=
 100;X-TITLE=Ráday Klub:geo:0,0
END:VEVENT
END:VCALENDAR