BEGIN:VCALENDAR
VERSION:2.0
PRODID:-//wp-events-plugin.com//6.6.4.4//EN
TZID:Europe/Budapest
X-WR-TIMEZONE:Europe/Budapest
BEGIN:VEVENT
UID:2609@femforgacs.hu
DTSTART:20081129T210000Z
DTEND:20081129T000000Z
DTSTAMP:20081121T230000Z
URL:https://femforgacs.hu/events/koncert-2609-2008_november_29_dirty_cocks
 _anonym_project_vastrabant/
SUMMARY:Dirty Cocks\, Anonym Project\, Vastrabant
DESCRIPTION:Dirty Cocks\nAnonym Project\nVastrabant
ATTACH;FMTTYPE=image/jpeg:https://storage.googleapis.com/femforgacs-wp/202
 2/11/n-2008_november_29_Dirty_Cocks_Anonym_Project_Vastrabant.jpg
LOCATION:Crazy Mama Music Pub\, IX. Gubacsi út 97.\, Budapest\, 
X-APPLE-STRUCTURED-LOCATION;VALUE=URI;X-ADDRESS=IX. Gubacsi út 97.\, Budap
 est\, ;X-APPLE-RADIUS=100;X-TITLE=Crazy Mama Music Pub:geo:0,0
END:VEVENT
END:VCALENDAR