BEGIN:VCALENDAR
VERSION:2.0
PRODID:-//wp-events-plugin.com//6.6.4.4//EN
TZID:Europe/Budapest
X-WR-TIMEZONE:Europe/Budapest
BEGIN:VEVENT
UID:3426@femforgacs.hu
DTSTART:20091004T190000Z
DTEND:20091004T000000Z
DTSTAMP:20090608T220000Z
URL:https://femforgacs.hu/events/koncert-3426-2009_oktober_4_secrets_of_th
 e_moon_code_solstafir/
SUMMARY:Secrets of the Moon\, Code\, Solstafír
DESCRIPTION:Secrets of the Moon\nCode\nSolstafír
ATTACH;FMTTYPE=image/jpeg:https://storage.googleapis.com/femforgacs-wp/202
 2/11/n-2009_oktober_4_Secrets_of_the_Moon_Code_Solstafir.jpg
LOCATION:Diesel (ex E-Klub)\, Népligeti út 2.\, Budapest\, 
X-APPLE-STRUCTURED-LOCATION;VALUE=URI;X-ADDRESS=Népligeti út 2.\, Budapes
 t\, ;X-APPLE-RADIUS=100;X-TITLE=Diesel (ex E-Klub):geo:0,0
END:VEVENT
END:VCALENDAR