BEGIN:VCALENDAR
VERSION:2.0
PRODID:-//wp-events-plugin.com//6.6.4.4//EN
TZID:Europe/Budapest
X-WR-TIMEZONE:Europe/Budapest
BEGIN:VEVENT
UID:3829@femforgacs.hu
DTSTART:20091107T190000Z
DTEND:20091107T000000Z
DTSTAMP:20091005T220000Z
URL:https://femforgacs.hu/events/koncert-3829-2009_november_7_blackromfest
 /
SUMMARY:BlacKromFest
DESCRIPTION:Sicitur Adastra\nAgregator\nDarkfall (A)\nNeochrome\nVale of Te
 ars
ATTACH;FMTTYPE=image/jpeg:https://storage.googleapis.com/femforgacs-wp/202
 2/11/n-2009_november_7_BlacKromFest.jpg
LOCATION:Új Vigadó Rock Klub\, Nagyerdei park 6.\, Debrecen\, 
X-APPLE-STRUCTURED-LOCATION;VALUE=URI;X-ADDRESS=Nagyerdei park 6.\, Debrece
 n\, ;X-APPLE-RADIUS=100;X-TITLE=Új Vigadó Rock Klub:geo:0,0
END:VEVENT
END:VCALENDAR