BEGIN:VCALENDAR
VERSION:2.0
PRODID:-//wp-events-plugin.com//6.6.4.4//EN
TZID:Europe/Budapest
X-WR-TIMEZONE:Europe/Budapest
BEGIN:VEVENT
UID:4069@femforgacs.hu
DTSTART:20100329T000000Z
DTEND:20100329T000000Z
DTSTAMP:20091206T230000Z
URL:https://femforgacs.hu/events/koncert-4069-2010_marcius_29_new_night_ov
 er_europe_2010/
SUMMARY:New Night Over Europe 2010
DESCRIPTION:Katatonia (SWE)\nSwallow The Sun (FI)\nLong Distance Calling (D
 E)
ATTACH;FMTTYPE=image/jpeg:https://storage.googleapis.com/femforgacs-wp/202
 2/11/n-2010_marcius_29_Katatonia_SWE_Swallow_The_Sun_FI_Long_Distance_Call
 ing_DE.jpg
LOCATION:Dürer Kert\, Öböl utca 1. (XI. ker.)\, Budapest\, Magyarország
GEO:47.45976;19.057503
X-APPLE-STRUCTURED-LOCATION;VALUE=URI;X-ADDRESS=Öböl utca 1. (XI. ker.)\,
  Budapest\, Magyarország;X-APPLE-RADIUS=100;X-TITLE=Dürer Kert:geo:47.45
 976,19.057503
END:VEVENT
END:VCALENDAR