BEGIN:VCALENDAR
VERSION:2.0
PRODID:-//wp-events-plugin.com//6.6.4.4//EN
TZID:Europe/Budapest
X-WR-TIMEZONE:Europe/Budapest
BEGIN:VEVENT
UID:4218@femforgacs.hu
DTSTART:20100411T000000Z
DTEND:20100411T000000Z
DTSTAMP:20100201T230000Z
URL:https://femforgacs.hu/events/koncert-4218-2010_aprilis_11_nachtmystium
 _jarboe_korog/
SUMMARY:Nachtmystium\, Jarboe\, Korog
DESCRIPTION:Nachtmystium\nJarboe\nKorog
ATTACH;FMTTYPE=image/jpeg:https://storage.googleapis.com/femforgacs-wp/202
 2/11/n-2010_aprilis_11_Nachtmystium_Jarboe.jpg
LOCATION:Diesel (ex E-Klub)\, Népligeti út 2.\, Budapest\, 
X-APPLE-STRUCTURED-LOCATION;VALUE=URI;X-ADDRESS=Népligeti út 2.\, Budapes
 t\, ;X-APPLE-RADIUS=100;X-TITLE=Diesel (ex E-Klub):geo:0,0
END:VEVENT
END:VCALENDAR