BEGIN:VCALENDAR
VERSION:2.0
PRODID:-//wp-events-plugin.com//6.6.4.4//EN
TZID:Europe/Budapest
X-WR-TIMEZONE:Europe/Budapest
BEGIN:VEVENT
UID:4270@femforgacs.hu
DTSTART:20100715T000000Z
DTEND:20100715T000000Z
DTSTAMP:20100216T230000Z
URL:https://femforgacs.hu/events/koncert-4270-2010_julius_15_obscene_extre
 me_2010/
SUMMARY:Obscene Extreme 2010
DESCRIPTION:Purulent Jacuzzi\nCerebral Bore\nSexy Police\nMucus\nTinner\nEa
 rdelete\nNoxa\nInevitable End\nBeyond Terror Beyond Grace\nIngrowing\nThe 
 Arson Project\nGeneral Surgery\nCattle Decapitation\nMartyrdod\nHell Show
ATTACH;FMTTYPE=image/jpeg:https://storage.googleapis.com/femforgacs-wp/202
 2/11/n-2010_julius_15_Obscene_Extreme_2010.jpg
LOCATION:Obscene Extreme\, Trutnov\, 
X-APPLE-STRUCTURED-LOCATION;VALUE=URI;X-ADDRESS=Trutnov\, ;X-APPLE-RADIUS=1
 00;X-TITLE=Obscene Extreme:geo:0,0
END:VEVENT
END:VCALENDAR