BEGIN:VCALENDAR
VERSION:2.0
PRODID:-//wp-events-plugin.com//6.6.4.4//EN
TZID:Europe/Budapest
X-WR-TIMEZONE:Europe/Budapest
BEGIN:VEVENT
UID:4835@femforgacs.hu
DTSTART:20101029T183000Z
DTEND:20101029T000000Z
DTSTAMP:20100918T220000Z
URL:https://femforgacs.hu/events/koncert-4835-2010_oktober_29_ii_blackrome
 fest/
SUMMARY:II.Blackromefest
DESCRIPTION:Negura Bunget\nNeochrome\nFrost\nI Divine\nDim Vision\nDeath Wa
 rrant\nSpiritual Ravishment\nJegyek elővételben a Rock-Ness hanglemezbol
 tban info: www.Neochrome.hu
ATTACH;FMTTYPE=image/jpeg:https://storage.googleapis.com/femforgacs-wp/202
 2/11/n-2010_oktober_29_II_Blackrome_Fesztival.jpg
LOCATION:Kaptár\, Domb utca 1.\, Debrecen\, 4029\, Hajdú-Bihar megye\, Ma
 gyarország
GEO:47.5317894;21.6316471
X-APPLE-STRUCTURED-LOCATION;VALUE=URI;X-ADDRESS=Domb utca 1.\, Debrecen\, 4
 029\, Hajdú-Bihar megye\, Magyarország;X-APPLE-RADIUS=100;X-TITLE=Kaptá
 r:geo:47.5317894,21.6316471
END:VEVENT
END:VCALENDAR