BEGIN:VCALENDAR
VERSION:2.0
PRODID:-//wp-events-plugin.com//6.6.4.4//EN
TZID:Europe/Budapest
X-WR-TIMEZONE:Europe/Budapest
BEGIN:VEVENT
UID:5097@femforgacs.hu
DTSTART:20110707T000000Z
DTEND:20110707T000000Z
DTSTAMP:20101201T230000Z
URL:https://femforgacs.hu/events/koncert-5097-2011_julius_7_obscene_extrem
 e_2011/
SUMMARY:Obscene Extreme 2011
DESCRIPTION:But\nIdiot Convention\nZeitgeist\nJack\nAnother Way\nHeadcrash\
 nAttack of Rage\nVon Boom\nFeastem\nNapalmed\nPandemia\nSquash Bowels\nGri
 de\nEntombed\nMargrudergrind\nBenediction\nHELL show
ATTACH;FMTTYPE=image/jpeg:https://storage.googleapis.com/femforgacs-wp/202
 2/11/n-2011_julius_7_Obscene_Extreme_2011.jpg
LOCATION:Obscene Extreme\, Trutnov\, 
X-APPLE-STRUCTURED-LOCATION;VALUE=URI;X-ADDRESS=Trutnov\, ;X-APPLE-RADIUS=1
 00;X-TITLE=Obscene Extreme:geo:0,0
END:VEVENT
END:VCALENDAR