BEGIN:VCALENDAR
VERSION:2.0
PRODID:-//wp-events-plugin.com//6.6.4.4//EN
TZID:Europe/Budapest
X-WR-TIMEZONE:Europe/Budapest
BEGIN:VEVENT
UID:8053@femforgacs.hu
DTSTART:20130914T173000Z
DTEND:20130914T000000Z
DTSTAMP:20130613T220000Z
URL:https://femforgacs.hu/events/koncert-8053-2013_szeptember_14_ossian_a_
 tuz_jegyeben_lemezbemutato_koncert/
SUMMARY:Ossian - A Tűz Jegyében Lemezbemutató Koncert
DESCRIPTION:Ossian\nKrízis
ATTACH;FMTTYPE=image/jpeg:https://storage.googleapis.com/femforgacs-wp/202
 2/11/n-2013_szeptember_14_Ossian_A_Tuz_Jegeben_Lemezbemutato_Koncert.jpg
LOCATION:Petőfi Rendezvényközpont\, XIV. kerület\, Zichy Mihály út 14
 \, Budapest\, 
X-APPLE-STRUCTURED-LOCATION;VALUE=URI;X-ADDRESS=XIV. kerület\, Zichy Mihá
 ly út 14\, Budapest\, ;X-APPLE-RADIUS=100;X-TITLE=Petőfi Rendezvényköz
 pont:geo:0,0
END:VEVENT
END:VCALENDAR