BEGIN:VCALENDAR
VERSION:2.0
PRODID:-//wp-events-plugin.com//6.6.4.4//EN
TZID:Europe/Budapest
X-WR-TIMEZONE:Europe/Budapest
BEGIN:VEVENT
UID:8903@femforgacs.hu
DTSTART:20140606T200000Z
DTEND:20140606T000000Z
DTSTAMP:20140520T220000Z
URL:https://femforgacs.hu/events/koncert-8903-2014_junius_6_a_bunsegedelem
 _ejszakaja/
SUMMARY:A Bűnsegedelem Éjszakája
DESCRIPTION:Agregator\nWe Will Rise
ATTACH;FMTTYPE=image/jpeg:https://storage.googleapis.com/femforgacs-wp/202
 2/11/n-2014_junius_6_Agregator_We_Will_Rise.jpg
LOCATION:Roxxy Music\, Győri út 1/A.\, Tatabánya\, Komárom-Esztergom me
 gye\, 2800\, Komárom-Esztergom megye\, Magyarország
GEO:47.5854261;18.3948152
X-APPLE-STRUCTURED-LOCATION;VALUE=URI;X-ADDRESS=Győri út 1/A.\, Tatabány
 a\, Komárom-Esztergom megye\, 2800\, Komárom-Esztergom megye\, Magyarors
 zág;X-APPLE-RADIUS=100;X-TITLE=Roxxy Music:geo:47.5854261,18.3948152
END:VEVENT
END:VCALENDAR