BEGIN:VCALENDAR
VERSION:2.0
PRODID:-//wp-events-plugin.com//6.6.4.4//EN
TZID:Europe/Budapest
X-WR-TIMEZONE:Europe/Budapest
BEGIN:VEVENT
UID:9272@femforgacs.hu
DTSTART:20150805T000000Z
DTEND:20150805T000000Z
DTSTAMP:20141020T220000Z
URL:https://femforgacs.hu/events/koncert-9272-2015_augusztus_5_20_brutal_a
 ssault/
SUMMARY:20. Brutal Assault
DESCRIPTION:Diphteria\nObliterate\nTortharry\nMinority Sound\nMortifilia\nM
 onuments\nMelechesh\nNuclear Assault\nCarnifex\nTriptykon\nKatatonia\nSoul
 fly\nMayhem
ATTACH;FMTTYPE=image/jpeg:https://storage.googleapis.com/femforgacs-wp/202
 2/11/n-2015_augusztus_5_20_Brutal_Assault.jpg
LOCATION:MS &amp\; Jägermeister Stages\, Josefov - katonai laktanya\, Jaro
 mer\, 
X-APPLE-STRUCTURED-LOCATION;VALUE=URI;X-ADDRESS=Josefov - katonai laktanya\
 , Jaromer\, ;X-APPLE-RADIUS=100;X-TITLE=MS & Jägermeister Stages:geo:0,0
END:VEVENT
END:VCALENDAR