BEGIN:VCALENDAR
VERSION:2.0
PRODID:-//wp-events-plugin.com//6.6.4.4//EN
TZID:Europe/Budapest
X-WR-TIMEZONE:Europe/Budapest
BEGIN:VEVENT
UID:9392@femforgacs.hu
DTSTART:20150730T000000Z
DTEND:20150730T000000Z
DTSTAMP:20141205T230000Z
URL:https://femforgacs.hu/events/koncert-9392-2015_julius_30_gothoom_6_66/
SUMMARY:Gothoom 6\,66
DESCRIPTION:Fellépők később
ATTACH;FMTTYPE=image/jpeg:https://storage.googleapis.com/femforgacs-wp/202
 2/11/n-2015_julius_30_Gothoom_6_66.jpg
LOCATION:Gothoom Festival\, M.R.Štefánika 44.\, Nová Baňa (SK)\, 
X-APPLE-STRUCTURED-LOCATION;VALUE=URI;X-ADDRESS=M.R.Štefánika 44.\, Nová
  Baňa (SK)\, ;X-APPLE-RADIUS=100;X-TITLE=Gothoom Festival:geo:0,0
END:VEVENT
END:VCALENDAR