BEGIN:VCALENDAR
VERSION:2.0
PRODID:-//wp-events-plugin.com//6.6.4.4//EN
TZID:Europe/Budapest
X-WR-TIMEZONE:Europe/Budapest
BEGIN:VEVENT
UID:16120@femforgacs.hu
DTSTART;TZID=Europe/Budapest:20260425T190000
DTEND;TZID=Europe/Budapest:20260425T190000
DTSTAMP:20260331T173747Z
URL:https://femforgacs.hu/events/koriander-my-last-summer-hurut-riff-budap
 est/
SUMMARY:Koriander\, My Last Summer\, Hurut - RIFF Budapest
DESCRIPTION:MENETREND\n19.00 kapunyitás20.30 koncert kezdés23.30 koncerte
 k vége + utolsó kör!24.00 záróra\nA fellépők sorrendje 1-2 nappal a
  koncert napja előtt kerül ki.\n\nMy Last Summer - pop-punk Pécsről\nH
 a azt hitted\, hogy Pécs csak az alter zenekarok exportálására alkalma
 s\, kösd fel a gatyád\, ugyanis a My Last Summer rongyosra táncoltatja 
 majd a lábad a kétezres éveket idéző pop-punkjával!https://www.faceb
 ook.com/mylastsumhttps://youtu.be/MnmDfshurM0?si=QXEOWWFHt0FzoHrR\n\nKoria
 nder mediterrán kultúrpunk Pécsről\nAkik nem veszik túl komolyan sem 
 magukat\, sem a világot. Dallamos\, vidám számokat játszunk vicces sz
 övegekkel\, hissznek abban\, hogy nem minden dalnak kell világfájdalmat
  cipelnie. Zenéjük játékos\, szemtelen és szándékosan nem akar töb
 b lenni annál\, mint ami: jókedv\, zaj\, nevetés és az a fajta felszab
 adultság\, amit csak akkor enged meg magának az ember\, ha már rég nem
  akar megfelelni. kicsit punk\, kicsit balkáni\, kicsit sehova sem sorolh
 ató .\nfacebook.com/korianderpecs\nhttps://www.youtube.com/@korianderpecs
 \nhttps://open.spotify.com/artist/4RZnq2AUqmLto8ogls6zZK...\n\nHurut\nBel
 épő: helyszínen\, csak KP
ATTACH;FMTTYPE=image/jpeg:https://storage.googleapis.com/femforgacs-wp/202
 6/03/d6bfa2c6-koriander-my-last-summer-hurut-riff-budapest.jpg
CATEGORIES:Klubkoncert
LOCATION:Riff\, Szent István krt. 2.\, Budapest\, Pest megye\, 1137\, Pest
  megye\, Magyarország
GEO:47.5086;19.0624
X-APPLE-STRUCTURED-LOCATION;VALUE=URI;X-ADDRESS=Szent István krt. 2.\, Bud
 apest\, Pest megye\, 1137\, Pest megye\, Magyarország;X-APPLE-RADIUS=100;
 X-TITLE=Riff:geo:47.5086,19.0624
END:VEVENT
BEGIN:VTIMEZONE
TZID:Europe/Budapest
X-LIC-LOCATION:Europe/Budapest
BEGIN:DAYLIGHT
DTSTART:20260329T030000
TZOFFSETFROM:+0100
TZOFFSETTO:+0200
TZNAME:CEST
END:DAYLIGHT
END:VTIMEZONE
END:VCALENDAR