BEGIN:VCALENDAR
VERSION:2.0
PRODID:-//wp-events-plugin.com//6.6.4.4//EN
TZID:Europe/Budapest
X-WR-TIMEZONE:Europe/Budapest
BEGIN:VEVENT
UID:16111@femforgacs.hu
DTSTART;TZID=Europe/Budapest:20260723T190000
DTEND;TZID=Europe/Budapest:20260723T190000
DTSTAMP:20260402T090810Z
URL:https://femforgacs.hu/events/lovebites/
SUMMARY:Lovebites - Outstanding Tour
DESCRIPTION:A Live Nation Magyarország bemutatja: Lovebites - Outstanding 
 Tour\n2026. július 23.\, csütörtök\nBudapest\, Analog Music Hall\nFell
 ép: Lovebites\n\nJegyár: 10.500\,- Ft\n\nJegyek: https://funcode.hu/hu/e
 vent/4067-lovebites
ATTACH;FMTTYPE=image/jpeg:https://storage.googleapis.com/femforgacs-wp/202
 6/03/903d1096-0010.jpg
CATEGORIES:Klubkoncert
LOCATION:Analog Music Hall\, XI. ker.\, Kondorfa u. 8.\, Budapest\, Magyaro
 rszág
X-APPLE-STRUCTURED-LOCATION;VALUE=URI;X-ADDRESS=XI. ker.\, Kondorfa u. 8.\,
  Budapest\, Magyarország;X-APPLE-RADIUS=100;X-TITLE=Analog Music Hall:geo
 :0,0
END:VEVENT
BEGIN:VTIMEZONE
TZID:Europe/Budapest
X-LIC-LOCATION:Europe/Budapest
BEGIN:DAYLIGHT
DTSTART:20260329T030000
TZOFFSETFROM:+0100
TZOFFSETTO:+0200
TZNAME:CEST
END:DAYLIGHT
END:VTIMEZONE
END:VCALENDAR