BEGIN:VCALENDAR
VERSION:2.0
PRODID:-//wp-events-plugin.com//6.6.4.4//EN
TZID:Europe/Budapest
X-WR-TIMEZONE:Europe/Budapest
BEGIN:VEVENT
UID:15921@femforgacs.hu
DTSTART;TZID=Europe/Budapest:20260610T180000
DTEND;TZID=Europe/Budapest:20260610T180000
DTSTAMP:20251202T130206Z
URL:https://femforgacs.hu/events/malevolence-gatcreeper-dying-wish/
SUMMARY:Malevolence\, Gatcreeper\, Dying Wish
DESCRIPTION:A Live Nation Magyarország bemutatja:\n2026. június 10.\, sze
 rda\nBudapest\, A38 Hajó\nFellépők: Malevolence\, Gatcreeper\, Dying Wi
 sh\n\nJegyár: 13.500\,- Ft\n\nJegyek: https://funcode.hu/hu/event/3091-ma
 levolence
ATTACH;FMTTYPE=image/jpeg:https://storage.googleapis.com/femforgacs-wp/202
 5/12/dd5b778e-0010.jpg
CATEGORIES:Klubkoncert
LOCATION:A38 Hajó\, Petőfi-híd budai hídfő\, Budapest\, 1117\, Magyaro
 rszág
GEO:47.47683759;19.06288706
X-APPLE-STRUCTURED-LOCATION;VALUE=URI;X-ADDRESS=Petőfi-híd budai hídfő\
 , Budapest\, 1117\, Magyarország;X-APPLE-RADIUS=100;X-TITLE=A38 Hajó:geo
 :47.47683759,19.06288706
END:VEVENT
BEGIN:VTIMEZONE
TZID:Europe/Budapest
X-LIC-LOCATION:Europe/Budapest
BEGIN:DAYLIGHT
DTSTART:20260329T030000
TZOFFSETFROM:+0100
TZOFFSETTO:+0200
TZNAME:CEST
END:DAYLIGHT
END:VTIMEZONE
END:VCALENDAR