BEGIN:VCALENDAR
VERSION:2.0
PRODID:-//wp-events-plugin.com//6.6.4.4//EN
TZID:Europe/Budapest
X-WR-TIMEZONE:Europe/Budapest
BEGIN:VEVENT
UID:16075@femforgacs.hu
DTSTART;TZID=Europe/Budapest:20260617T190000
DTEND;TZID=Europe/Budapest:20260617T190000
DTSTAMP:20260224T111403Z
URL:https://femforgacs.hu/events/man-with-a-mission/
SUMMARY:Man With A Mission
DESCRIPTION:A Live Nation Magyarország bemutatja:\n2026. június 17.\, sze
 rda\nBudapest\, Akvárium Klub\nFellép: Man With A Mission\n\nJegyár: 12
 .900\,- Ft\n\nJegyek: https://funcode.hu/hu/event/3682-man-with-a-mission
ATTACH;FMTTYPE=image/jpeg:https://storage.googleapis.com/femforgacs-wp/202
 6/02/881840ff-0010.jpg
CATEGORIES:Klubkoncert
LOCATION:Akvárium Klub\, Erzsébet tér 12.\, Budapest\, 1051\, Magyarorsz
 ág
GEO:47.4984469;19.0542255
X-APPLE-STRUCTURED-LOCATION;VALUE=URI;X-ADDRESS=Erzsébet tér 12.\, Budape
 st\, 1051\, Magyarország;X-APPLE-RADIUS=100;X-TITLE=Akvárium Klub:geo:47
 .4984469,19.0542255
END:VEVENT
BEGIN:VTIMEZONE
TZID:Europe/Budapest
X-LIC-LOCATION:Europe/Budapest
BEGIN:DAYLIGHT
DTSTART:20260329T030000
TZOFFSETFROM:+0100
TZOFFSETTO:+0200
TZNAME:CEST
END:DAYLIGHT
END:VTIMEZONE
END:VCALENDAR