BEGIN:VCALENDAR
VERSION:2.0
PRODID:-//wp-events-plugin.com//6.6.4.4//EN
TZID:Europe/Budapest
X-WR-TIMEZONE:Europe/Budapest
BEGIN:VEVENT
UID:16013@femforgacs.hu
DTSTART;TZID=Europe/Budapest:20261021T180000
DTEND;TZID=Europe/Budapest:20261021T180000
DTSTAMP:20260202T091245Z
URL:https://femforgacs.hu/events/marko-hietala-european-tour-2026/
SUMMARY:Marko Hietala - European Tour 2026
DESCRIPTION:A H-Music Hungary bemutatja: Marko Hietala - European Tour 2026
 \n2026. október 21.\, szedra\nBudapest\, Barba Negra Blue Stage\nFellép:
  Marko Hietala\n\nJegyár: 9.000\,- Ft / 10.000\,- Ft / 11.000\,- Ft\n\nJe
 gyek: https://jegy.rock1.hu/marko-hietala_20261021
ATTACH;FMTTYPE=image/jpeg:https://storage.googleapis.com/femforgacs-wp/202
 6/02/32c16739-0010-scaled.jpg
CATEGORIES:Klubkoncert
LOCATION:Barba Negra\, Szállító u. 3.\, Budapest\, 1211\, Magyarország
X-APPLE-STRUCTURED-LOCATION;VALUE=URI;X-ADDRESS=Szállító u. 3.\, Budapes
 t\, 1211\, Magyarország;X-APPLE-RADIUS=100;X-TITLE=Barba Negra:geo:0,0
END:VEVENT
BEGIN:VTIMEZONE
TZID:Europe/Budapest
X-LIC-LOCATION:Europe/Budapest
BEGIN:DAYLIGHT
DTSTART:20260329T030000
TZOFFSETFROM:+0100
TZOFFSETTO:+0200
TZNAME:CEST
END:DAYLIGHT
END:VTIMEZONE
END:VCALENDAR