BEGIN:VCALENDAR
VERSION:2.0
PRODID:-//wp-events-plugin.com//6.6.4.4//EN
TZID:Europe/Budapest
X-WR-TIMEZONE:Europe/Budapest
BEGIN:VEVENT
UID:16045@femforgacs.hu
DTSTART;TZID=Europe/Budapest:20260831T170000
DTEND;TZID=Europe/Budapest:20260831T170000
DTSTAMP:20260213T065506Z
URL:https://femforgacs.hu/events/maze-of-disintegration-europe-2026/
SUMMARY:Maze of Disintegration Europe 2026
DESCRIPTION:Az A38 bemutatja: Maze of Disintegration Europe 2026\n2026. aug
 usztus 31.\, hétfő\nBudapest\, A38 Hajó\nFellépők: Of Feather and Bon
 e\, Civerous\n\nJegyár: 5.900\,- Ft / 6.900\,- Ft / 8.900\,- Ft\n\nJegyek
 : https://www.a38.hu/hu/program/of-feather-and-bone-us-civerous-us
ATTACH;FMTTYPE=image/jpeg:https://storage.googleapis.com/femforgacs-wp/202
 6/02/a3d5dadb-0010.jpg
CATEGORIES:Klubkoncert
LOCATION:A38 Hajó\, Petőfi-híd budai hídfő\, Budapest\, 1117\, Magyaro
 rszág
GEO:47.47683759;19.06288706
X-APPLE-STRUCTURED-LOCATION;VALUE=URI;X-ADDRESS=Petőfi-híd budai hídfő\
 , Budapest\, 1117\, Magyarország;X-APPLE-RADIUS=100;X-TITLE=A38 Hajó:geo
 :47.47683759,19.06288706
END:VEVENT
BEGIN:VTIMEZONE
TZID:Europe/Budapest
X-LIC-LOCATION:Europe/Budapest
BEGIN:DAYLIGHT
DTSTART:20260329T030000
TZOFFSETFROM:+0100
TZOFFSETTO:+0200
TZNAME:CEST
END:DAYLIGHT
END:VTIMEZONE
END:VCALENDAR