BEGIN:VCALENDAR
VERSION:2.0
PRODID:-//wp-events-plugin.com//6.6.4.4//EN
TZID:Europe/Budapest
X-WR-TIMEZONE:Europe/Budapest
BEGIN:VEVENT
UID:14045@femforgacs.hu
DTSTART;VALUE=DATE:20210705
DTEND;VALUE=DATE:20210711
DTSTAMP:20210624T073423Z
URL:https://femforgacs.hu/events/metal-factory-fesztival/
SUMMARY:Metal Factory Fesztivál
DESCRIPTION:Metal Factory Fesztivál\n2021. július 5-10.\nDunaújváros\, 
 Szalki-sziget\n\n2021. július 5.\, hétfő (Nulladik nap)\nFellépők: An
 gertea\, Band in the Pit\, Born Again\, Malediction\, Pocket Fox\, Pop Moc
 kupRaza-Loca\, Sniffyction\, Warchief\, The Wedding at the Slaughterhouse\
 n\n2021. július 6.\, kedd\nFellépők: Ektomorf\, Moby Dick\, Archaic\, A
 tomic Innistrad\, Ramorse\, Vesztegzár\, Dalriada\, Tales of Evening\, El
 anor\, Exodikon\, Isatha\, Leecher\, Don Gatto\, Téveszma\, Beerzebub\, N
 emecsek\, Petofi\, Social Free Face\, Tisztán a cél felé\n\n2021. júli
 us 7.\, szerda\nFellépők: Leander Kills\, Down for Whatever\, Lovecrose\
 , Mudifeld\, New Friend Request\, Phrenia\, Stabbed\, Akela\, Omen\, Anger
 seed\, Dying Wish\, Perfect Symmetry\, The Morning Star\, Hétköznapi Csa
 lódások\, Macskanadrág\, Bajnoq\, Counter Clockwise\, Csók és Könny\
 , MIG-29\, The Hellfreaks\n\n2021. július 8.\, csütörtök\nFellépők: 
 Paddy and the Rats\, Jolly Jackers\, Esperfall\, Lochness\, Mytra\, Ordog\
 , The Scarlet\, Sear Bliss\, Watch My Dying\, Christian Epidemic\, Monaste
 ry\, Reason\, Witchthrone\, Böiler\, Fegyelmező Részleg\, A.M.D.\, Fran
 cesco és a haverok\, Ne Fogazz!\, Pentele SKA Club\, QSS\n\n2021. július
  9.\, péntek\nFellépők: Depresszió\, Junkies\, Agregator\, Burnout\, D
 ivided\, Magor\, Nova Prospect\, Kalapács\, Auróra\, Cool Head Clan\, Ko
 ri és barátai\, Pair 'o Dice\, Ragadozók\, Prosectura\, Rózsaszín Pit
 tbull\, Brigantik\, Dirty Dawn\, Éhenkórászok\, Hisztéria Hortobágy H
 C Crew\n\n2021. július 10.\, szombat\nFellépők: Road\, Rómeó Vérzik\
 , Cadaveres\, Dystopia\, Lost Continent\, Salvus\, Wall of Sleep\, Pokolg
 ép\, Stress\, Alcohol\, Bermuda Rock Band\, Helldiver\, Power\, Subscribe
 \, Lazarvs\, Beneath the Void\, Needless\, Omega Diatribe\, The Southern O
 racle\, Stubborn\n\nBérlet: 16.990\,- Ft / Hétköznapi és hétvégi jeg
 y: 11.990\,- Ft / Napijegy: 4.990\,- Ft\n
ATTACH;FMTTYPE=image/jpeg:https://storage.googleapis.com/femforgacs-wp/202
 1/06/9.4.jpg
CATEGORIES:Fesztivál
LOCATION:Szalki-sziget\, Strand út\, Dunaújváros\, 2400\, Fejér megye\,
  Magyarország
GEO:46.982471;18.938521
X-APPLE-STRUCTURED-LOCATION;VALUE=URI;X-ADDRESS=Strand út\, Dunaújváros\
 , 2400\, Fejér megye\, Magyarország;X-APPLE-RADIUS=100;X-TITLE=Szalki-sz
 iget:geo:46.982471,18.938521
END:VEVENT
END:VCALENDAR