BEGIN:VCALENDAR
VERSION:2.0
PRODID:-//wp-events-plugin.com//6.6.4.4//EN
TZID:Europe/Budapest
X-WR-TIMEZONE:Europe/Budapest
BEGIN:VEVENT
UID:16124@femforgacs.hu
DTSTART;TZID=Europe/Budapest:20261110T190000
DTEND;TZID=Europe/Budapest:20261110T190000
DTSTAMP:20260401T085309Z
URL:https://femforgacs.hu/events/monolord-mars-red-sky/
SUMMARY:Monolord\, Mars Red Sky
DESCRIPTION:Az Emptiness Booking és a Dürer Kert bemutatja:\n2026. novemb
 er 10.\, kedd\nBudapest\, Dürer Kert\nFellépők: Monolord\, Mars Red Sky
 \n\nJegyár: 8.900\,- Ft / 9.900\,- Ft / 10.900\,- Ft\n\nJegyek: https://w
 ww.tixa.hu/monolord-durerkert-2026
ATTACH;FMTTYPE=image/jpeg:https://storage.googleapis.com/femforgacs-wp/202
 6/04/646d5678-0010.jpg
CATEGORIES:Klubkoncert
LOCATION:Dürer Kert\, Öböl utca 1. (XI. ker.)\, Budapest\, Magyarország
GEO:47.45976;19.057503
X-APPLE-STRUCTURED-LOCATION;VALUE=URI;X-ADDRESS=Öböl utca 1. (XI. ker.)\,
  Budapest\, Magyarország;X-APPLE-RADIUS=100;X-TITLE=Dürer Kert:geo:47.45
 976,19.057503
END:VEVENT
BEGIN:VTIMEZONE
TZID:Europe/Budapest
X-LIC-LOCATION:Europe/Budapest
BEGIN:STANDARD
DTSTART:20261025T020000
TZOFFSETFROM:+0200
TZOFFSETTO:+0100
TZNAME:CET
END:STANDARD
END:VTIMEZONE
END:VCALENDAR