BEGIN:VCALENDAR
VERSION:2.0
PRODID:-//wp-events-plugin.com//6.6.4.4//EN
TZID:Europe/Budapest
X-WR-TIMEZONE:Europe/Budapest
BEGIN:VEVENT
UID:13972@femforgacs.hu
DTSTART:20220609T120000Z
DTEND:20220612T120000Z
DTSTAMP:20211217T121426Z
URL:https://femforgacs.hu/events/nova-rock-festival-2022/
SUMMARY:Nova Rock Festival 2022
DESCRIPTION:Nova Rock Festival 2022\n2022 június 9-12\nNickelsdorf\, Panno
 nia Fields\n\n2022. június 9.\, csütörtök\nMuse\, Rage Aganist\, Bulle
 t for My Valentine\, Evanesence\, Steel Panther\, Turbobier\, Bush\, Black
  Veil Brides\, Nothing but Thieves\, Of Mice & Men\, Code Orange\, Gloryha
 mmer\, Black Inhale\, Fire from the Gods\, Grandson\, Blues Pills\, Kennyh
 oopla\, Deez Nuts\, JJ Wilde\, Creeper\, Coffeshock Company\, Reverend Bla
 ckflesh\, Daze Affect\n\n2022. június 10.\, péntek\nFoo Fighters\, Kraft
 klub\, Bring Me the Horizon\, Korn\, Maneskin\, Skillet\, The Pretty Reckl
 ess\, Heilung\, While She Sleeps\, Battle Beast\, Alien Weaponry\, The Las
 t Internationale\, King Nun\, Dog Eat Dog\, Being as an Ocean\, Stone Brok
 en\, Engst\, Ego Kill Talent\, Kill the Lycant\n\n2022. június 11.\, szom
 bat\nVolbeat\, Seiler & Speer\, Deichkind\, The Offspring\, Dame\, Bad Rel
 igion\, Jinjer\, Eskimo Callboy\, Mando Diao\, Querbeat\, Alle Achtung\, B
 oston Manor\, Wavig the Guns\, Liedfett\, Lagwagon\, Stick to Your Guns\, 
 Any Given Day\, The Score\, Please Madame\, Monokay\n\n2022. június 12.\,
  vasárnap\nFive Finger Death Punch\, Billy Talent\, In Flames\, Alligatoa
 h\, Wizo\, Airbourne\, Trettmann\, Distillers\, Eluveitie\, Finch\, Greeen
 \, Devin Townsend\, Faaschtbankler\, Imminence\, Mal Élévé\, The Weight
 \, Wendi's Böhmische Blasmusik\, Minisex\, Bloodsucking Zombies from Outh
 er Space\, Skolka\, Last Band Standing\, Autumn Bride\, :Aexattack\n\nBér
 let: 200 €\nNapijegy: 100 € / 110 €
ATTACH;FMTTYPE=image/jpeg:https://storage.googleapis.com/femforgacs-wp/201
 9/06/9.7.jpg
CATEGORIES:Fesztivál
LOCATION:Pannonia Fields\, Pannonia Fields\, 2425 Nickelsdorf\, Nickelsdorf
 \, 
X-APPLE-STRUCTURED-LOCATION;VALUE=URI;X-ADDRESS=Pannonia Fields\, 2425 Nick
 elsdorf\, Nickelsdorf\, ;X-APPLE-RADIUS=100;X-TITLE=Pannonia Fields:geo:0,
 0
END:VEVENT
END:VCALENDAR