BEGIN:VCALENDAR
VERSION:2.0
PRODID:-//wp-events-plugin.com//6.6.4.4//EN
TZID:Europe/Budapest
X-WR-TIMEZONE:Europe/Budapest
BEGIN:VEVENT
UID:15943@femforgacs.hu
DTSTART;TZID=Europe/Budapest:20260519T190000
DTEND;TZID=Europe/Budapest:20260519T190000
DTSTAMP:20260206T122947Z
URL:https://femforgacs.hu/events/pelican-fotocrime-durer-kert/
SUMMARY:Pelican\, Fotocrime - Dürer Kert
DESCRIPTION:Az Emptiness Booking és a Dürer Kert bemutatja:\n2026. május
  19.\, kedd\nKapunyitás: 19:00\nBudapest\, Dürer Kert\nFellép: Pelican\
 , Fotocrime\nJegyár: 7.900\,- Ft / 8.900\,- Ft / 9.900\,- Ft\n\nPelicanht
 tps://www.facebook.com/pelicansonghttps://www.pelicansong.com/https://peli
 can.bandcamp.com/www.instagram.com/pelicansong/\nFotocrimehttps://www.face
 book.com/fotocrime/https://www.instagram.com/fotocrime/https://www.fotocri
 me.com/\n\nJegyek: https://www.tixa.hu/pelican-durerkert-2026
ATTACH;FMTTYPE=image/jpeg:https://storage.googleapis.com/femforgacs-wp/202
 5/12/4de34c40-0010.jpg
CATEGORIES:Klubkoncert
LOCATION:Dürer Kert\, Öböl utca 1. (XI. ker.)\, Budapest\, Magyarország
GEO:47.45976;19.057503
X-APPLE-STRUCTURED-LOCATION;VALUE=URI;X-ADDRESS=Öböl utca 1. (XI. ker.)\,
  Budapest\, Magyarország;X-APPLE-RADIUS=100;X-TITLE=Dürer Kert:geo:47.45
 976,19.057503
END:VEVENT
BEGIN:VTIMEZONE
TZID:Europe/Budapest
X-LIC-LOCATION:Europe/Budapest
BEGIN:DAYLIGHT
DTSTART:20260329T030000
TZOFFSETFROM:+0100
TZOFFSETTO:+0200
TZNAME:CEST
END:DAYLIGHT
END:VTIMEZONE
END:VCALENDAR