BEGIN:VCALENDAR
VERSION:2.0
PRODID:-//wp-events-plugin.com//6.6.4.4//EN
TZID:Europe/Budapest
X-WR-TIMEZONE:Europe/Budapest
BEGIN:VEVENT
UID:16119@femforgacs.hu
DTSTART;TZID=Europe/Budapest:20260424T190000
DTEND;TZID=Europe/Budapest:20260424T190000
DTSTAMP:20260331T173346Z
URL:https://femforgacs.hu/events/pletyka-peremen-sovargas-riff-budapest/
SUMMARY:Pletyka\, peremén\, Sóvárgás - RIFF Budapest
DESCRIPTION:mocsok konyók #2:\ndühös nők és férfiak riffelnek posztp
 ánkul.\náprilis utolsó péntekjén szálljá' le a Jászain\, csoszogj 
 le a Riffbe\, álljá' be az első sorba\, aztán táncoljá' szomorkodva\
 , amíg 3x3 dühös ember kiszabadítja magából a búbánatot egy-egy sz
 ett erejéig a post-punk műfaj keretein belül.\nfellépnek:\nPLETYKA (dr
 eamy post-punk)https://szegyenkazettak.bandcamp.com/album/dem-4\na PLETYKA
  zenekart minél többször hallod\, annál jobban szétárad az elmédben
 . a későkapitalista rémálom mindennapjainak fátyolos hangú króniká
 sai olyan szikár popdalokat írnak\, amik fixen veled maradnak\, mert uno
 ttak és szépek\, mint maga az élet.\n\nSóvárgás (needy post-punk)htt
 ps://sovargas.bandcamp.com/\na Sóvárgás mindent tud\, amit a legtöbb s
 zovjet post-punk is\, csak ez az anyanyelveden van\, úgyhogy esélytelen\
 , hogy romanticizáld a nyomorodat. cigizgethetsz rá\, mint a south parko
 s gótok\, úgyis mindenki tudja\, hogy mélyebben vagy\, mint a Lenszkij 
 hangja.\n\nperemén (creepy post-punk)\nészak-pesti eszképisták szavakk
 al és húrokkal próbálják visszatuszkolni a remény illúzióját a pa
 lackba\, avagy 20 év baszakodás után trióként bújik elő barlangjáb
 ól a peremén -volt elég idő\, hogy kellően bekattant dobgéppé csepe
 redjen a csattogós lepke.\n---\nkapunyitás: 19:00záróra: 00:00a zeneka
 rok és a hely támogatása: 2500-3500 forint (készpénzben\, helyszínen
 .)\n---\ntovábbi infók hamarosan...
ATTACH;FMTTYPE=image/jpeg:https://storage.googleapis.com/femforgacs-wp/202
 6/03/17ed320a-pletyka-peremen-sovargas-riff-budapest.jpg
CATEGORIES:Klubkoncert
LOCATION:Riff\, Szent István krt. 2.\, Budapest\, Pest megye\, 1137\, Pest
  megye\, Magyarország
GEO:47.5086;19.0624
X-APPLE-STRUCTURED-LOCATION;VALUE=URI;X-ADDRESS=Szent István krt. 2.\, Bud
 apest\, Pest megye\, 1137\, Pest megye\, Magyarország;X-APPLE-RADIUS=100;
 X-TITLE=Riff:geo:47.5086,19.0624
END:VEVENT
BEGIN:VTIMEZONE
TZID:Europe/Budapest
X-LIC-LOCATION:Europe/Budapest
BEGIN:DAYLIGHT
DTSTART:20260329T030000
TZOFFSETFROM:+0100
TZOFFSETTO:+0200
TZNAME:CEST
END:DAYLIGHT
END:VTIMEZONE
END:VCALENDAR