BEGIN:VCALENDAR
VERSION:2.0
PRODID:-//wp-events-plugin.com//6.6.4.4//EN
TZID:Europe/Budapest
X-WR-TIMEZONE:Europe/Budapest
BEGIN:VEVENT
UID:16107@femforgacs.hu
DTSTART;TZID=Europe/Budapest:20260827T190000
DTEND;TZID=Europe/Budapest:20260827T190000
DTSTAMP:20260327T111320Z
URL:https://femforgacs.hu/events/reliance-tour/
SUMMARY:Soen - Reliance Tour 2026
DESCRIPTION:A Live Nation Magyarország bemutatja: Soen - Reliance Tour 202
 6\n2026. augusztus 27.\, csütörtök\nBudapest\, A38 Hajó\nFellép: Soen
 \n\nJegyár: 12.000\,- Ft\n\nJegyek: https://funcode.hu/hu/event/3984-soen
ATTACH;FMTTYPE=image/jpeg:https://storage.googleapis.com/femforgacs-wp/202
 6/03/dccf22a4-0010.jpg
CATEGORIES:Klubkoncert
LOCATION:A38 Hajó\, Petőfi-híd budai hídfő\, Budapest\, 1117\, Magyaro
 rszág
GEO:47.47683759;19.06288706
X-APPLE-STRUCTURED-LOCATION;VALUE=URI;X-ADDRESS=Petőfi-híd budai hídfő\
 , Budapest\, 1117\, Magyarország;X-APPLE-RADIUS=100;X-TITLE=A38 Hajó:geo
 :47.47683759,19.06288706
END:VEVENT
BEGIN:VTIMEZONE
TZID:Europe/Budapest
X-LIC-LOCATION:Europe/Budapest
BEGIN:DAYLIGHT
DTSTART:20260329T030000
TZOFFSETFROM:+0100
TZOFFSETTO:+0200
TZNAME:CEST
END:DAYLIGHT
END:VTIMEZONE
END:VCALENDAR