BEGIN:VCALENDAR
VERSION:2.0
PRODID:-//wp-events-plugin.com//6.6.4.4//EN
TZID:Europe/Budapest
X-WR-TIMEZONE:Europe/Budapest
BEGIN:VEVENT
UID:16087@femforgacs.hu
DTSTART;TZID=Europe/Budapest:20260701T190000
DTEND;TZID=Europe/Budapest:20260701T190000
DTSTAMP:20260316T072528Z
URL:https://femforgacs.hu/events/satanic-legions-tour-2026/
SUMMARY:Satanic Legions Tour 2026
DESCRIPTION:A Planetnoir Industries bemutatja: Satanic Legions Tour 2026\n2
 026. július 1.\, szerda\nBudapest\, Supersonic - Blue Hell & Kvlt\nFellé
 p: NunSlaughter\n\nJegyár: 6.990\,- Ft / 8.990\,- Ft / 10.990\,- Ft\n\nJe
 gyek: https://www.tixa.hu/nunslaughter-budapest
ATTACH;FMTTYPE=image/jpeg:https://storage.googleapis.com/femforgacs-wp/202
 6/03/67a9ffe6-0010.jpg
CATEGORIES:Klubkoncert
LOCATION:Supersonic – Blue Hell & KVLT\, Fényes Adolf u. 28.\, Budapest\
 , Magyarország
X-APPLE-STRUCTURED-LOCATION;VALUE=URI;X-ADDRESS=Fényes Adolf u. 28.\, Buda
 pest\, Magyarország;X-APPLE-RADIUS=100;X-TITLE=Supersonic – Blue Hell &
  KVLT:geo:0,0
END:VEVENT
BEGIN:VTIMEZONE
TZID:Europe/Budapest
X-LIC-LOCATION:Europe/Budapest
BEGIN:DAYLIGHT
DTSTART:20260329T030000
TZOFFSETFROM:+0100
TZOFFSETTO:+0200
TZNAME:CEST
END:DAYLIGHT
END:VTIMEZONE
END:VCALENDAR