BEGIN:VCALENDAR
VERSION:2.0
PRODID:-//wp-events-plugin.com//6.6.4.4//EN
TZID:Europe/Budapest
X-WR-TIMEZONE:Europe/Budapest
BEGIN:VEVENT
UID:16028@femforgacs.hu
DTSTART;TZID=Europe/Budapest:20261021T180000
DTEND;TZID=Europe/Budapest:20261021T180000
DTSTAMP:20260209T112633Z
URL:https://femforgacs.hu/events/simple-plan-bigger-than-you-think-europe-
 tour/
SUMMARY:Simple Plan - Bigger Than You Think! Europe Tour 2026
DESCRIPTION:A Live Nation Magyarország bemutatja: Simple Plan - Bigger Tha
 n You Think! Europe Tour 2026\n2026. október 21.\, szerda\nBudapest\, Bar
 ba Negra Red Stage\nFellépők: Simple Plan\, Neck Deep\, Charlotte Sands\
 n\nJegyár: 19.850\,- Ft\n\nJegyek: https://funcode.hu/hu/event/3600-simpl
 e-plan
ATTACH;FMTTYPE=image/jpeg:https://storage.googleapis.com/femforgacs-wp/202
 6/02/d2529a62-0010.jpg
CATEGORIES:Klubkoncert
LOCATION:Barba Negra\, Szállító u. 3.\, Budapest\, 1211\, Magyarország
X-APPLE-STRUCTURED-LOCATION;VALUE=URI;X-ADDRESS=Szállító u. 3.\, Budapes
 t\, 1211\, Magyarország;X-APPLE-RADIUS=100;X-TITLE=Barba Negra:geo:0,0
END:VEVENT
BEGIN:VTIMEZONE
TZID:Europe/Budapest
X-LIC-LOCATION:Europe/Budapest
BEGIN:DAYLIGHT
DTSTART:20260329T030000
TZOFFSETFROM:+0100
TZOFFSETTO:+0200
TZNAME:CEST
END:DAYLIGHT
END:VTIMEZONE
END:VCALENDAR