BEGIN:VCALENDAR
VERSION:2.0
PRODID:-//wp-events-plugin.com//6.6.4.4//EN
TZID:Europe/Budapest
X-WR-TIMEZONE:Europe/Budapest
BEGIN:VEVENT
UID:15964@femforgacs.hu
DTSTART;TZID=Europe/Budapest:20260613T190000
DTEND;TZID=Europe/Budapest:20260613T190000
DTSTAMP:20251219T102804Z
URL:https://femforgacs.hu/events/six-feet-under-embryonic-autopsy/
SUMMARY:Six Feet Under\, Embryonic Autopsy
DESCRIPTION:A Livesound bemutatja:\n2026. június 13.\, szombat\nBudapest\,
  A38 Hajó\nFellépők: Six Feet Under\, Embryonic Autopsy\n\nJegyár: 10.
 990\,- Ft / 11.990\,- Ft / 12.990\,- Ft\n\nJegyek: https://www.tixa.hu/SIX
 -FEET-UNDER-A38-2026
ATTACH;FMTTYPE=image/jpeg:https://storage.googleapis.com/femforgacs-wp/202
 5/12/a288203b-0010.jpg
CATEGORIES:Klubkoncert
LOCATION:A38 Hajó\, Petőfi-híd budai hídfő\, Budapest\, 1117\, Magyaro
 rszág
GEO:47.47683759;19.06288706
X-APPLE-STRUCTURED-LOCATION;VALUE=URI;X-ADDRESS=Petőfi-híd budai hídfő\
 , Budapest\, 1117\, Magyarország;X-APPLE-RADIUS=100;X-TITLE=A38 Hajó:geo
 :47.47683759,19.06288706
END:VEVENT
BEGIN:VTIMEZONE
TZID:Europe/Budapest
X-LIC-LOCATION:Europe/Budapest
BEGIN:DAYLIGHT
DTSTART:20260329T030000
TZOFFSETFROM:+0100
TZOFFSETTO:+0200
TZNAME:CEST
END:DAYLIGHT
END:VTIMEZONE
END:VCALENDAR